BEGIN:VCALENDAR
VERSION:2.0
PRODID:-//Millersville Bible Church - ECPv6.15.4//NONSGML v1.0//EN
CALSCALE:GREGORIAN
METHOD:PUBLISH
X-ORIGINAL-URL:https://millersvillebiblechurch.org
X-WR-CALDESC:Events for Millersville Bible Church
REFRESH-INTERVAL;VALUE=DURATION:PT1H
X-Robots-Tag:noindex
X-PUBLISHED-TTL:PT1H
BEGIN:VTIMEZONE
TZID:America/New_York
BEGIN:DAYLIGHT
TZOFFSETFROM:-0500
TZOFFSETTO:-0400
TZNAME:EDT
DTSTART:20260308T070000
END:DAYLIGHT
BEGIN:STANDARD
TZOFFSETFROM:-0400
TZOFFSETTO:-0500
TZNAME:EST
DTSTART:20261101T060000
END:STANDARD
END:VTIMEZONE
BEGIN:VEVENT
DTSTART;TZID=America/New_York:20260506T190000
DTEND;TZID=America/New_York:20260506T203000
DTSTAMP:20260420T044201
CREATED:20260401T003431Z
LAST-MODIFIED:20260405T004343Z
UID:1633-1778094000-1778099400@millersvillebiblechurch.org
SUMMARY:National Day of Prayer
DESCRIPTION:Join us for a time to gather to pray for our country\, community\, and families taking place on the EVE of the National Day of Prayer. This event is for 7th grade and older. (Children’s classes will run as normal.)
URL:https://millersvillebiblechurch.org/event/national-day-of-prayer/
LOCATION:Main Auditorium | Millersville Bible Church\, 1940 New Danville Pike\, Lancaster\, PA\, 17603\, United States
CATEGORIES:General
ATTACH;FMTTYPE=image/jpeg:https://millersvillebiblechurch.org/wp-content/uploads/2026/03/National-Day-of-Prayer.jpg
END:VEVENT
BEGIN:VEVENT
DTSTART;TZID=America/New_York:20260508T173000
DTEND;TZID=America/New_York:20260509T103000
DTSTAMP:20260420T044201
CREATED:20260404T183846Z
LAST-MODIFIED:20260405T001631Z
UID:957-1778261400-1778322600@millersvillebiblechurch.org
SUMMARY:Father Son Campout
DESCRIPTION:Join us for a fun night with other dads and sons. \nThere will be food\, singing\, sharing of thankfulness and more. \n$5/person $15 family max. (Includes dinner\, snacks and breakfast) \n		\n			Sign Up Today		\n\n 
URL:https://millersvillebiblechurch.org/event/father-son-campout/
LOCATION:Millersville Bible Church\, 1940 New Danville Pike\, Lancaster\, PA\, 17603\, United States
CATEGORIES:Kids
ATTACH;FMTTYPE=image/jpeg:https://millersvillebiblechurch.org/wp-content/uploads/2025/04/father-son.jpg
END:VEVENT
BEGIN:VEVENT
DTSTART;TZID=America/New_York:20260516T163000
DTEND;TZID=America/New_York:20260516T193000
DTSTAMP:20260420T044201
CREATED:20250402T173331Z
LAST-MODIFIED:20260407T233259Z
UID:928-1778949000-1778959800@millersvillebiblechurch.org
SUMMARY:Men's Meat Fest
DESCRIPTION:MeatFest is a time for men to get together and share their favorite meat and side dishes. Please sign up to bring either a meat-centered entrée\, or a side dish to share. \nA pig roast\, drinks and ice cream will be provided. We will have a time of fellowship\, followed by a time in the Word. This event is for guys ages 12 and up. \nPlease indicate if you can help to set up or clean up. Set up begins at 3:30. Clean up ends when it’s clean. Please invite friends. \n\n                \n                        \n                            Men's Meat Fest 2026\n                        \n                        Name(Required)\n                            \n                            \n                                                    First\n                                                    \n                                                \n                            \n                            \n                                                            Last\n                                                            \n                                                        \n                            \n                        Email(Required)\n                                \n                                    Enter Email\n                                    \n                                \n                                \n                                    Confirm Email\n                                    \n                                \n                                \n                            Will you be bringing a Entree or Side Dish or Both?(Required)EntreeSide DishBothAre you able to help set up? (4 PM)(Required)YesNoAre you able to help clean up? (Directly after)(Required)YesNoNumber  Attending(Required)\n         Submit \n            \n            \n            \n            \n            \n            \n            \n            \n            \n        \n                        \n                        \n		                \n		                \n\n 
URL:https://millersvillebiblechurch.org/event/mens-meat-fest/
LOCATION:Fellowship Room | Millersville Bible Church\, 1940 New Danville Pike\, Lancaster\, PA\, 17603\, United States
CATEGORIES:General
ATTACH;FMTTYPE=image/png:https://millersvillebiblechurch.org/wp-content/uploads/2025/04/Mens-Meat-Fest.png
ORGANIZER;CN="Gene Strait":MAILTO:gene@millersvillebiblechurch.org
END:VEVENT
BEGIN:VEVENT
DTSTART;TZID=America/New_York:20260517T183000
DTEND;TZID=America/New_York:20260517T200000
DTSTAMP:20260420T044201
CREATED:20250430T152738Z
LAST-MODIFIED:20260415T174352Z
UID:975-1779042600-1779048000@millersvillebiblechurch.org
SUMMARY:Covenant Members Meeting
DESCRIPTION:We will be having our Annual Covenant Members Meeting on May 17th at 6:30PM. We will spend the evening praising and rejoicing all that God has done in the past year and seeing what the Lord may have for us as we move forward. If you are a covenant member please plan to attend this gathering. \n*Childcare will be provided for your nursery through 6th grade children*
URL:https://millersvillebiblechurch.org/event/covenant-members-meeting/
LOCATION:Main Auditorium | Millersville Bible Church\, 1940 New Danville Pike\, Lancaster\, PA\, 17603\, United States
CATEGORIES:General
ATTACH;FMTTYPE=image/jpeg:https://millersvillebiblechurch.org/wp-content/uploads/2025/04/Covenant-Members-Meetings-2025.jpg
ORGANIZER;CN="Millersville Bible Church":MAILTO:office@millersvillebiblechurch.org
END:VEVENT
BEGIN:VEVENT
DTSTART;TZID=America/New_York:20260520T180000
DTEND;TZID=America/New_York:20260520T200000
DTSTAMP:20260420T044201
CREATED:20250417T185445Z
LAST-MODIFIED:20260405T005307Z
UID:961-1779300000-1779307200@millersvillebiblechurch.org
SUMMARY:Hawaiian Family Fun Night
DESCRIPTION:Join us for a our family fun night to celebrate the end of our classes and the beginning of summer. \nThere will be games\, inflatables\, a dunk tank\, food and fellowship with the MBC family.
URL:https://millersvillebiblechurch.org/event/hawaiian-family-fun-night/
LOCATION:Millersville Bible Church\, 1940 New Danville Pike\, Lancaster\, PA\, 17603\, United States
CATEGORIES:General,Kids
ATTACH;FMTTYPE=image/jpeg:https://millersvillebiblechurch.org/wp-content/uploads/2025/04/Hawaiian-Family-Fun-Night.jpg
END:VEVENT
BEGIN:VEVENT
DTSTART;TZID=America/New_York:20260524T100000
DTEND;TZID=America/New_York:20260524T230000
DTSTAMP:20260420T044201
CREATED:20250430T182118Z
LAST-MODIFIED:20260415T174107Z
UID:983-1779616800-1779663600@millersvillebiblechurch.org
SUMMARY:Outdoor Service
DESCRIPTION:On Sunday May 24th\, we will be having a special outdoor service! Bring your lawn chairs and blankets for our one service starting at 10:00 AM in the grass behind the church building. After the service we will have a time for a picnic\, so please plan to bring a packed lunch for your family. MBC will provide beverages. Those interested in playing soccer\, we will have some pickup soccer games after lunch. \nIf there is inclement weather\, we will move the service inside and setup our lawn chairs and blankets inside to worship together. \nWe look forward to worshipping and fellowshipping together in God’s creation! \n*This service is not being live streamed. It will be recorded and uploaded the following day.*
URL:https://millersvillebiblechurch.org/event/outdoor-service/
LOCATION:Millersville Bible Church\, 1940 New Danville Pike\, Lancaster\, PA\, 17603\, United States
CATEGORIES:General
ATTACH;FMTTYPE=image/jpeg:https://millersvillebiblechurch.org/wp-content/uploads/2025/04/OutdoorService_Spring26.jpg
ORGANIZER;CN="Millersville Bible Church":MAILTO:office@millersvillebiblechurch.org
END:VEVENT
BEGIN:VEVENT
DTSTART;TZID=America/New_York:20260713T181500
DTEND;TZID=America/New_York:20260713T204500
DTSTAMP:20260420T044201
CREATED:20260415T175708Z
LAST-MODIFIED:20260415T175951Z
UID:1681-1783966500-1783975500@millersvillebiblechurch.org
SUMMARY:VBS | Rainforest Falls
DESCRIPTION:MBC VBS is back for our 26th year. Children entering K-6th grade are invited to join us for VBS as we show them what it means to be rooted in relationship with God\, their safe place in life’s storms. \nRegistration will be open soon. \nM- Th 6:15pm – 8:45pm. \nFriday night closing 7:00pm \nMBC Family interested in serving at Rainforest Falls VBS? SIGN UP TO SERVE!
URL:https://millersvillebiblechurch.org/event/vbs-rainforest-falls/
LOCATION:Millersville Bible Church\, 1940 New Danville Pike\, Lancaster\, PA\, 17603\, United States
CATEGORIES:Kids
ATTACH;FMTTYPE=image/png:https://millersvillebiblechurch.org/wp-content/uploads/2026/04/VBS-SLIDE-1920-x-1080-px-1024x576-1.png
ORGANIZER;CN="Dave Hufford":MAILTO:dhufford.mbc@gmail.com
END:VEVENT
BEGIN:VEVENT
DTSTART;VALUE=DATE:20260727
DTEND;VALUE=DATE:20260801
DTSTAMP:20260420T044201
CREATED:20250122T172115Z
LAST-MODIFIED:20260415T180805Z
UID:717-1785110400-1785542399@millersvillebiblechurch.org
SUMMARY:MBC Elementary Camp
DESCRIPTION:Millersville Bible Camp will be held from July 27th – July 31st\, 2026 at Greenview Bible Camp! \nIt’s hard to believe that summer is almost upon us. We have another great week of camp planned for 2026\, our 23rd year! It’s time to register for camp. \nYou can download the brochure by clicking on the following link: MBC Camp Brochure. \nAfter checking out the brochure\, feel free to register online: Register for MBC Camp. \n		\n			Register Now		\n\nWe hope that you’ll be able to join us for camp this coming summer! \nIf you have any questions\, please don’t hesitate to contact us. \nCost\n$295.00 per person (a $50 discount) if paid in full by June 1st. If paid after June 1st\, the cost is $345.00 per person. \nA $75 non-refundable\, non-transferable (except within immediate family)\, deposit is required for each camper. Payment in full must be received by July 1st. All fees\, except $75 deposit\, are refundable if camper cancels prior to the Thursday before camp begins.
URL:https://millersvillebiblechurch.org/event/mbc-elementary-camp/
LOCATION:Greenview Bible Camp\, 520 Chapel Hill Lane\, denver\, PA\, United States
CATEGORIES:Kids
ATTACH;FMTTYPE=image/jpeg:https://millersvillebiblechurch.org/wp-content/uploads/2025/01/MBC-CAMP-LOGO-1080.jpg
ORGANIZER;CN="Dave Hufford":MAILTO:dhufford.mbc@gmail.com
END:VEVENT
END:VCALENDAR