BEGIN:VCALENDAR
VERSION:2.0
PRODID:-//Millersville Bible Church - ECPv6.15.4//NONSGML v1.0//EN
CALSCALE:GREGORIAN
METHOD:PUBLISH
X-WR-CALNAME:Millersville Bible Church
X-ORIGINAL-URL:https://millersvillebiblechurch.org
X-WR-CALDESC:Events for Millersville Bible Church
REFRESH-INTERVAL;VALUE=DURATION:PT1H
X-Robots-Tag:noindex
X-PUBLISHED-TTL:PT1H
BEGIN:VTIMEZONE
TZID:America/New_York
BEGIN:DAYLIGHT
TZOFFSETFROM:-0500
TZOFFSETTO:-0400
TZNAME:EDT
DTSTART:20260308T070000
END:DAYLIGHT
BEGIN:STANDARD
TZOFFSETFROM:-0400
TZOFFSETTO:-0500
TZNAME:EST
DTSTART:20261101T060000
END:STANDARD
END:VTIMEZONE
BEGIN:VEVENT
DTSTART;TZID=America/New_York:20260609T183000
DTEND;TZID=America/New_York:20260609T200000
DTSTAMP:20260422T053712
CREATED:20260422T035624Z
LAST-MODIFIED:20260422T035624Z
UID:1699-1781029800-1781035200@millersvillebiblechurch.org
SUMMARY:Men's Softball Game
DESCRIPTION:Come out to support our men’s softball team this spring!
URL:https://millersvillebiblechurch.org/event/mens-softball-game-6/
LOCATION:Faith Bible Fellowship Church\, 151 Donerville Rd\, Lancaster\, PA\, 17603\, United States
CATEGORIES:Athletics
ATTACH;FMTTYPE=image/jpeg:https://millersvillebiblechurch.org/wp-content/uploads/2026/04/Mens-Softball.jpg
ORGANIZER;CN="Millersville Bible Church":MAILTO:office@millersvillebiblechurch.org
END:VEVENT
BEGIN:VEVENT
DTSTART;TZID=America/New_York:20260623T183000
DTEND;TZID=America/New_York:20260623T200000
DTSTAMP:20260422T053712
CREATED:20260422T035719Z
LAST-MODIFIED:20260422T035719Z
UID:1700-1782239400-1782244800@millersvillebiblechurch.org
SUMMARY:Men's Softball Game
DESCRIPTION:Come out to support our men’s softball team this spring!
URL:https://millersvillebiblechurch.org/event/mens-softball-game-7/
LOCATION:PA
CATEGORIES:Athletics
ATTACH;FMTTYPE=image/jpeg:https://millersvillebiblechurch.org/wp-content/uploads/2026/04/Mens-Softball.jpg
ORGANIZER;CN="Millersville Bible Church":MAILTO:office@millersvillebiblechurch.org
END:VEVENT
BEGIN:VEVENT
DTSTART;TZID=America/New_York:20260630T183000
DTEND;TZID=America/New_York:20260630T200000
DTSTAMP:20260422T053712
CREATED:20260422T035849Z
LAST-MODIFIED:20260422T035849Z
UID:1701-1782844200-1782849600@millersvillebiblechurch.org
SUMMARY:Men's Softball Game
DESCRIPTION:Come out to support our men’s softball team this spring!
URL:https://millersvillebiblechurch.org/event/mens-softball-game-8/
LOCATION:Faith Bible Fellowship Church\, 151 Donerville Rd\, Lancaster\, PA\, 17603\, United States
CATEGORIES:Athletics
ATTACH;FMTTYPE=image/jpeg:https://millersvillebiblechurch.org/wp-content/uploads/2026/04/Mens-Softball.jpg
ORGANIZER;CN="Millersville Bible Church":MAILTO:office@millersvillebiblechurch.org
END:VEVENT
BEGIN:VEVENT
DTSTART;TZID=America/New_York:20260713T181500
DTEND;TZID=America/New_York:20260713T204500
DTSTAMP:20260422T053712
CREATED:20260415T175708Z
LAST-MODIFIED:20260415T175951Z
UID:1681-1783966500-1783975500@millersvillebiblechurch.org
SUMMARY:VBS | Rainforest Falls
DESCRIPTION:MBC VBS is back for our 26th year. Children entering K-6th grade are invited to join us for VBS as we show them what it means to be rooted in relationship with God\, their safe place in life’s storms. \nRegistration will be open soon. \nM- Th 6:15pm – 8:45pm. \nFriday night closing 7:00pm \nMBC Family interested in serving at Rainforest Falls VBS? SIGN UP TO SERVE!
URL:https://millersvillebiblechurch.org/event/vbs-rainforest-falls/
LOCATION:Millersville Bible Church\, 1940 New Danville Pike\, Lancaster\, PA\, 17603\, United States
CATEGORIES:Kids
ATTACH;FMTTYPE=image/png:https://millersvillebiblechurch.org/wp-content/uploads/2026/04/VBS-SLIDE-1920-x-1080-px-1024x576-1.png
ORGANIZER;CN="Dave Hufford":MAILTO:dhufford.mbc@gmail.com
END:VEVENT
BEGIN:VEVENT
DTSTART;VALUE=DATE:20260727
DTEND;VALUE=DATE:20260801
DTSTAMP:20260422T053712
CREATED:20250122T172115Z
LAST-MODIFIED:20260415T180805Z
UID:717-1785110400-1785542399@millersvillebiblechurch.org
SUMMARY:MBC Elementary Camp
DESCRIPTION:Millersville Bible Camp will be held from July 27th – July 31st\, 2026 at Greenview Bible Camp! \nIt’s hard to believe that summer is almost upon us. We have another great week of camp planned for 2026\, our 23rd year! It’s time to register for camp. \nYou can download the brochure by clicking on the following link: MBC Camp Brochure. \nAfter checking out the brochure\, feel free to register online: Register for MBC Camp. \n		\n			Register Now		\n\nWe hope that you’ll be able to join us for camp this coming summer! \nIf you have any questions\, please don’t hesitate to contact us. \nCost\n$295.00 per person (a $50 discount) if paid in full by June 1st. If paid after June 1st\, the cost is $345.00 per person. \nA $75 non-refundable\, non-transferable (except within immediate family)\, deposit is required for each camper. Payment in full must be received by July 1st. All fees\, except $75 deposit\, are refundable if camper cancels prior to the Thursday before camp begins.
URL:https://millersvillebiblechurch.org/event/mbc-elementary-camp/
LOCATION:Greenview Bible Camp\, 520 Chapel Hill Lane\, denver\, PA\, United States
CATEGORIES:Kids
ATTACH;FMTTYPE=image/jpeg:https://millersvillebiblechurch.org/wp-content/uploads/2025/01/MBC-CAMP-LOGO-1080.jpg
ORGANIZER;CN="Dave Hufford":MAILTO:dhufford.mbc@gmail.com
END:VEVENT
END:VCALENDAR